BEGIN:VCALENDAR
VERSION:2.0
PRODID:-//Énerg’Y Citoyennes - ECPv6.15.20//NONSGML v1.0//EN
CALSCALE:GREGORIAN
METHOD:PUBLISH
X-ORIGINAL-URL:https://energy-citoyennes.org
X-WR-CALDESC:Évènements pour Énerg’Y Citoyennes
REFRESH-INTERVAL;VALUE=DURATION:PT1H
X-Robots-Tag:noindex
X-PUBLISHED-TTL:PT1H
BEGIN:VTIMEZONE
TZID:Europe/Paris
BEGIN:DAYLIGHT
TZOFFSETFROM:+0100
TZOFFSETTO:+0200
TZNAME:CEST
DTSTART:20210328T010000
END:DAYLIGHT
BEGIN:STANDARD
TZOFFSETFROM:+0200
TZOFFSETTO:+0100
TZNAME:CET
DTSTART:20211031T010000
END:STANDARD
BEGIN:DAYLIGHT
TZOFFSETFROM:+0100
TZOFFSETTO:+0200
TZNAME:CEST
DTSTART:20220327T010000
END:DAYLIGHT
BEGIN:STANDARD
TZOFFSETFROM:+0200
TZOFFSETTO:+0100
TZNAME:CET
DTSTART:20221030T010000
END:STANDARD
BEGIN:DAYLIGHT
TZOFFSETFROM:+0100
TZOFFSETTO:+0200
TZNAME:CEST
DTSTART:20230326T010000
END:DAYLIGHT
BEGIN:STANDARD
TZOFFSETFROM:+0200
TZOFFSETTO:+0100
TZNAME:CET
DTSTART:20231029T010000
END:STANDARD
END:VTIMEZONE
BEGIN:VEVENT
DTSTART;TZID=Europe/Paris:20221109T083000
DTEND;TZID=Europe/Paris:20221109T170000
DTSTAMP:20260421T170659
CREATED:20221010T163318Z
LAST-MODIFIED:20221010T163701Z
UID:11244-1667982600-1668013200@energy-citoyennes.org
SUMMARY:Rencontres GUSP : La Transition écologique et énergétique au quotidien à Pont-de-Claix // sur inscription
DESCRIPTION:Retrouvez-nous lors des prochaines rencontres de la GUSP \nTRANSITION ECOLOGIQUE ET ENERGETIQUE AU QUOTIDIEN \nSur inscription en suivant <<ce lien>> \nQuels apports de chacun\, habitants\, associations\, élus et gestionnaires?   \nQuelles adaptations de notre cadre de vie et de nos manières d’habiter?   \nQuels leviers pour agir ensemble et en proximité? \nCette journée d’échanges permettra de partager les constats et repérer les idées et acteurs pour mieux accompagner collectivement la mise en œuvre des transitions sur le terrain. \nQuelques questions guideront les échanges de la journée \n\nComment la transition écologique et énergétique se traduit-elle dans le quotidien des habitants? Comment évoluent et s’adaptent nos pratiques quotidiennes dans ce contexte? \nQuelles sont les contraintes existantes qui limitent/empêchent la mise en oeuvre des politiques de transition écologique et énergétique dans le quotidien ? Comment les dépasser? \nQuelles sont les conditions et les leviers collectifs favorables pour que les changements souhaités s‘opérent dans la réalité?\nComment susciter l’envie et accompagner chacun.e\, et notamment les plus éloignés\, à être acteur des transitions ?
URL:https://energy-citoyennes.org/event/rencontres-gusp-la-transition-ecologique-et-energetique-au-quotidien-a-pont-de-claix/
LOCATION:Foyer Municipal de Pont-de-Claix\, avenue du maquis de l'oisans\, Pont-de-Claix\, 38800\, France
CATEGORIES:On participe
ATTACH;FMTTYPE=image/png:https://energy-citoyennes.org/wp-content/uploads/2022/10/GUSP-flyer-2022.png
END:VEVENT
BEGIN:VEVENT
DTSTART;TZID=Europe/Paris:20221116T160000
DTEND;TZID=Europe/Paris:20221116T190000
DTSTAMP:20260421T170659
CREATED:20221026T082826Z
LAST-MODIFIED:20221107T103419Z
UID:11362-1668614400-1668625200@energy-citoyennes.org
SUMMARY:Animation Bois Energie à Varces-Allières-et-Risset
DESCRIPTION:Un atelier énergétique est organisé sur la commune de Varces-Allières-et-Risset le mercredi 16 novembre de 16h à 19h devant la chaufferie bois. Au programme : \n\nUn stand tenu par Energ’Y Citoyennes pour vous présenter leurs actions.\nDes visites de la chaufferie bois organisées par Forestener\nDes ateliers sur la qualité de l’air :\n\nQuels sont les polluants de l’air auxquels nous sommes exposés et quels sont leurs impacts sur notre santé ? \nComment sont mesurer les particules fines sur la commune ? Venez découvrir et expérimenter ! \n\nDes ateliers sur le chauffage au bois individuel :\n\nQuels gestes pour bien se chauffer en limitant son impact sur la qualité de l’air ? \nQuelles aides pour remplacer son chauffage au bois peu performant ? Comment rénover mon installation ? Quel choix d’appareil ? \nL’ALEC vous conseille et répond aux questions que vous vous posez. \nVenez récupérer un kit bonnes pratiques du chauffage au bois et/ou empruntez une de nos mallettes pour mesurer l’efficacité de votre chauffage au bois individuel. \nVenez suivre une session courte d’informations sur les bonnes pratiques du chauffage au bois. Des conseils et des recommandations simples qui vous feront faire des économies et limitera votre impact sur la qualité de l’air. »
URL:https://energy-citoyennes.org/event/animation-energetique-bois/
LOCATION:Salle L’Oriel\, Espace Charles de Gaulle\, Varces-Allières-et-Risset\, 38760
CATEGORIES:On participe
ATTACH;FMTTYPE=application/pdf:https://energy-citoyennes.org/wp-content/uploads/2022/10/AfficheAnimationBois_2022-11-16_vdef.pdf
END:VEVENT
END:VCALENDAR