BEGIN:VCALENDAR
VERSION:2.0
PRODID:-//Énerg’Y Citoyennes - ECPv6.15.20//NONSGML v1.0//EN
CALSCALE:GREGORIAN
METHOD:PUBLISH
X-ORIGINAL-URL:https://energy-citoyennes.org
X-WR-CALDESC:Évènements pour Énerg’Y Citoyennes
REFRESH-INTERVAL;VALUE=DURATION:PT1H
X-Robots-Tag:noindex
X-PUBLISHED-TTL:PT1H
BEGIN:VTIMEZONE
TZID:Europe/Paris
BEGIN:DAYLIGHT
TZOFFSETFROM:+0100
TZOFFSETTO:+0200
TZNAME:CEST
DTSTART:20220327T010000
END:DAYLIGHT
BEGIN:STANDARD
TZOFFSETFROM:+0200
TZOFFSETTO:+0100
TZNAME:CET
DTSTART:20221030T010000
END:STANDARD
BEGIN:DAYLIGHT
TZOFFSETFROM:+0100
TZOFFSETTO:+0200
TZNAME:CEST
DTSTART:20230326T010000
END:DAYLIGHT
BEGIN:STANDARD
TZOFFSETFROM:+0200
TZOFFSETTO:+0100
TZNAME:CET
DTSTART:20231029T010000
END:STANDARD
BEGIN:DAYLIGHT
TZOFFSETFROM:+0100
TZOFFSETTO:+0200
TZNAME:CEST
DTSTART:20240331T010000
END:DAYLIGHT
BEGIN:STANDARD
TZOFFSETFROM:+0200
TZOFFSETTO:+0100
TZNAME:CET
DTSTART:20241027T010000
END:STANDARD
END:VTIMEZONE
BEGIN:VEVENT
DTSTART;TZID=Europe/Paris:20230628T180000
DTEND;TZID=Europe/Paris:20230628T213000
DTSTAMP:20260420T225521
CREATED:20230317T125253Z
LAST-MODIFIED:20230530T093557Z
UID:12145-1687975200-1687987800@energy-citoyennes.org
SUMMARY:Assemblée générale 2023 à Grenoble
DESCRIPTION:L’assemblée générale annuelle\, permet au conseil de gestion et aux bénévoles de présenter aux associés l’activité\, les comptes\, et les perspectives de développement. \nCette année\, nous votons en ligne\, et nous vous attendons dans l’amphi Bergès de GreEn-ER à Grenoble pour partager nos actualités de 2022 et nos perspectives ! \nAfin que nous puissions organiser au mieux cette soirée\, merci de vous inscrire en suivant ➡️ ce lien  ⬅️ \nAu programme de cette soirée : \n\n\n\n\n \nA noter : de 16h15 à 18h l’Observatoire de la Transition Energétique organise une conférence sur l’autoconsommation collectiveavant notre Assemblée Générale (sur inscription) ! \n\n  \n\n18h15 : Accueil\n18h30 : Présentation du rapport de gestion au 31 décembre 2022 et questions/réponses\n19h30 : Discussion « Le modèle de l’autoconsommation collective et le positionnement d’Energ’Y Citoyennes »\n20h15 : Sur le toit de l’Espace Colombiers à Domène … ou presque !\n20h20 : « Cocktail Citoyen » pour un temps d’échanges convivial 🙂\n21h15 : Fin de la soirée\n\nAccès transports en commun : tram B\, Transisère\, ligne Express 1\, arrêt CEA Cambridge
URL:https://energy-citoyennes.org/event/assemblee-generale-2023/
LOCATION:GreEn-ER\, 21 Av. des Martyrs\, Grenoble\, 38000\, France
CATEGORIES:On organise
ATTACH;FMTTYPE=image/jpeg:https://energy-citoyennes.org/wp-content/uploads/2023/03/20230423_212328.jpg
END:VEVENT
END:VCALENDAR