BEGIN:VCALENDAR
VERSION:2.0
PRODID:-//Énerg’Y Citoyennes - ECPv6.15.20//NONSGML v1.0//EN
CALSCALE:GREGORIAN
METHOD:PUBLISH
X-WR-CALNAME:Énerg’Y Citoyennes
X-ORIGINAL-URL:https://energy-citoyennes.org
X-WR-CALDESC:Évènements pour Énerg’Y Citoyennes
REFRESH-INTERVAL;VALUE=DURATION:PT1H
X-Robots-Tag:noindex
X-PUBLISHED-TTL:PT1H
BEGIN:VTIMEZONE
TZID:Europe/Paris
BEGIN:DAYLIGHT
TZOFFSETFROM:+0100
TZOFFSETTO:+0200
TZNAME:CEST
DTSTART:20220327T010000
END:DAYLIGHT
BEGIN:STANDARD
TZOFFSETFROM:+0200
TZOFFSETTO:+0100
TZNAME:CET
DTSTART:20221030T010000
END:STANDARD
BEGIN:DAYLIGHT
TZOFFSETFROM:+0100
TZOFFSETTO:+0200
TZNAME:CEST
DTSTART:20230326T010000
END:DAYLIGHT
BEGIN:STANDARD
TZOFFSETFROM:+0200
TZOFFSETTO:+0100
TZNAME:CET
DTSTART:20231029T010000
END:STANDARD
BEGIN:DAYLIGHT
TZOFFSETFROM:+0100
TZOFFSETTO:+0200
TZNAME:CEST
DTSTART:20240331T010000
END:DAYLIGHT
BEGIN:STANDARD
TZOFFSETFROM:+0200
TZOFFSETTO:+0100
TZNAME:CET
DTSTART:20241027T010000
END:STANDARD
END:VTIMEZONE
BEGIN:VEVENT
DTSTART;TZID=Europe/Paris:20230611T150000
DTEND;TZID=Europe/Paris:20230611T163000
DTSTAMP:20260421T002328
CREATED:20230428T071729Z
LAST-MODIFIED:20230507T105940Z
UID:12330-1686495600-1686501000@energy-citoyennes.org
SUMMARY:La transition les pieds dans l'herbe...
DESCRIPTION:Evénement proposé dans le cadre de la Biennale des Villes en Transition 2023 \nStéphane La Branche\, coordinateur scientifique du GIECO-IPBC\, se présente avant tout comme un sociologue du climat. \nIl travaille depuis 20 ans sur les raisons qui nous motivent\, ou pas\, à changer de comportement pour la transition écologique. \nVoici ce qu’il nous dit : \n« Ce n’est pas que les gens sont contre\, mais au quotidien on pense à d’autres choses\, on a d’autres préoccupations\, on est pressé par le temps et on a envie de farniente ». Ensuite\, les freins et les moteurs sont différents selon les pratiques : « on ne devient pas végétarien comme on commence à prendre le vélo » et ce qui m’empêche d’utiliser le vélo (la peur des accidents) n’est pas ce qui m’empêche de devenir végétarien (l’odeur du BBQ). \nIl nous parlera de tout ce que vous avez toujours voulu savoir sur la peur du changement mais n’osiez pas demander. Pourquoi changer ou pas ? Le faire pour l’environnement ou pas ? Il nous invitera à réfléchir à la paresse du cerveau\, nos habitudes\, nos envies et la place de la nature dans nos décisions.
URL:https://energy-citoyennes.org/event/la-transition-les-pieds-dans-lherbe/
LOCATION:Parc Georges Pompidou\, 39 Rue Général Mangin\, Grenoble\, 38100\, France
CATEGORIES:On organise
ATTACH;FMTTYPE=image/jpeg:https://energy-citoyennes.org/wp-content/uploads/2023/04/Quelle-transition-Pourquoi-moi-.jpg
END:VEVENT
END:VCALENDAR