BEGIN:VCALENDAR
VERSION:2.0
PRODID:-//Énerg’Y Citoyennes - ECPv6.15.20//NONSGML v1.0//EN
CALSCALE:GREGORIAN
METHOD:PUBLISH
X-WR-CALNAME:Énerg’Y Citoyennes
X-ORIGINAL-URL:https://energy-citoyennes.org
X-WR-CALDESC:Évènements pour Énerg’Y Citoyennes
REFRESH-INTERVAL;VALUE=DURATION:PT1H
X-Robots-Tag:noindex
X-PUBLISHED-TTL:PT1H
BEGIN:VTIMEZONE
TZID:Europe/Paris
BEGIN:DAYLIGHT
TZOFFSETFROM:+0100
TZOFFSETTO:+0200
TZNAME:CEST
DTSTART:20210328T010000
END:DAYLIGHT
BEGIN:STANDARD
TZOFFSETFROM:+0200
TZOFFSETTO:+0100
TZNAME:CET
DTSTART:20211031T010000
END:STANDARD
BEGIN:DAYLIGHT
TZOFFSETFROM:+0100
TZOFFSETTO:+0200
TZNAME:CEST
DTSTART:20220327T010000
END:DAYLIGHT
BEGIN:STANDARD
TZOFFSETFROM:+0200
TZOFFSETTO:+0100
TZNAME:CET
DTSTART:20221030T010000
END:STANDARD
BEGIN:DAYLIGHT
TZOFFSETFROM:+0100
TZOFFSETTO:+0200
TZNAME:CEST
DTSTART:20230326T010000
END:DAYLIGHT
BEGIN:STANDARD
TZOFFSETFROM:+0200
TZOFFSETTO:+0100
TZNAME:CET
DTSTART:20231029T010000
END:STANDARD
END:VTIMEZONE
BEGIN:VEVENT
DTSTART;TZID=Europe/Paris:20220929T193000
DTEND;TZID=Europe/Paris:20220929T210000
DTSTAMP:20260421T121842
CREATED:20220905T090559Z
LAST-MODIFIED:20220925T093244Z
UID:10981-1664479800-1664485200@energy-citoyennes.org
SUMMARY:Projection - We The Power
DESCRIPTION:We The Power – Le film de Patagonia qui met la transition énergétique citoyenne à l’honneur ! \nProjection UNIQUE sur Grenoble au cinéma Le Club\, 9 rue du Phalanstère le jeudi 29 septembre à 19h30. \nRejoignez-nous pour la soirée pour une projection du film suivi d’un débat animé par Energ’Y Citoyennes autour de la question : Les citoyens peuvent-ils se réapproprier la production d’énergie ? \n>> Bande annonce << \nBilletterie sur place – tarif unique à 6€. \n  \n. . . . . . . . . . \nLe synopsis: \n\n\nPendant 45mn\, We The Power suit le parcours de ces hommes et femmes qui ont constaté que le système énergétique en place creusait les inégalités sociales\, appauvrissait les territoires et jouait contre le climat. \nCes individus qui ont choisi de ne pas rester immobiles et de montrer la voie à l’échelle locale\, en menant des initiatives de production d’énergie renouvelable ou en sensibilisant les voisins à l’énergie. Avec eux\, ils ont rassemblé des milliers de personnes et ont amorcé une réappropriation populaire de l’énergie\, partout en Europe. \n\n\nCes histoires en Belgique\, en Allemagne\, en Angleterre ou en Espagne sont l’histoire commune d’Énergie Partagée : née de la conviction de pionniers et renforcée depuis par les centaines d’exemple qui viennent prouver que cette idée est prête à être généralisée. Car l’énergie citoyenne\, c’est une énergie juste et maîtrisé\, par les citoyens\, pour les citoyens. \nEnsemble\, nous pouvons rependre le pouvoir sur le système énergétique\, actuellement entre les mains d’une poignée d’entreprises\, et ainsi nous réapproprier les bénéfices liés à une énergie propre et locale.
URL:https://energy-citoyennes.org/event/projection-we-the-power/
LOCATION:cinéma Le Club\, 9 bis Rue du Phalanstère\, Grenoble\, 38000
CATEGORIES:On organise
ATTACH;FMTTYPE=application/pdf:https://energy-citoyennes.org/wp-content/uploads/2022/09/A3-WTH-Paysage.pdf
END:VEVENT
END:VCALENDAR