BEGIN:VCALENDAR
VERSION:2.0
PRODID:-//Énerg’Y Citoyennes - ECPv6.15.20//NONSGML v1.0//EN
CALSCALE:GREGORIAN
METHOD:PUBLISH
X-ORIGINAL-URL:https://energy-citoyennes.org
X-WR-CALDESC:Évènements pour Énerg’Y Citoyennes
REFRESH-INTERVAL;VALUE=DURATION:PT1H
X-Robots-Tag:noindex
X-PUBLISHED-TTL:PT1H
BEGIN:VTIMEZONE
TZID:Europe/Paris
BEGIN:DAYLIGHT
TZOFFSETFROM:+0100
TZOFFSETTO:+0200
TZNAME:CEST
DTSTART:20220327T010000
END:DAYLIGHT
BEGIN:STANDARD
TZOFFSETFROM:+0200
TZOFFSETTO:+0100
TZNAME:CET
DTSTART:20221030T010000
END:STANDARD
BEGIN:DAYLIGHT
TZOFFSETFROM:+0100
TZOFFSETTO:+0200
TZNAME:CEST
DTSTART:20230326T010000
END:DAYLIGHT
BEGIN:STANDARD
TZOFFSETFROM:+0200
TZOFFSETTO:+0100
TZNAME:CET
DTSTART:20231029T010000
END:STANDARD
BEGIN:DAYLIGHT
TZOFFSETFROM:+0100
TZOFFSETTO:+0200
TZNAME:CEST
DTSTART:20240331T010000
END:DAYLIGHT
BEGIN:STANDARD
TZOFFSETFROM:+0200
TZOFFSETTO:+0100
TZNAME:CET
DTSTART:20241027T010000
END:STANDARD
END:VTIMEZONE
BEGIN:VEVENT
DTSTART;TZID=Europe/Paris:20230126T120000
DTEND;TZID=Europe/Paris:20230126T130000
DTSTAMP:20260421T055049
CREATED:20221230T165404Z
LAST-MODIFIED:20221230T165404Z
UID:11732-1674734400-1674738000@energy-citoyennes.org
SUMMARY:Inauguration de la centrale solaire de la Maison de la Musique de Meylan
DESCRIPTION:
URL:https://energy-citoyennes.org/event/inauguration-de-la-centrale-solaire-de-la-maison-de-la-musique-de-meylan/
LOCATION:Maison de la Musique\, 4 Av. du Granier\, meylan\, 38240\, France
CATEGORIES:On organise,On participe
ATTACH;FMTTYPE=image/jpeg:https://energy-citoyennes.org/wp-content/uploads/2022/12/DJI_0122-scaled.jpg
END:VEVENT
BEGIN:VEVENT
DTSTART;TZID=Europe/Paris:20230131T183000
DTEND;TZID=Europe/Paris:20230131T200000
DTSTAMP:20260421T055049
CREATED:20221201T134151Z
LAST-MODIFIED:20230131T090344Z
UID:11546-1675189800-1675195200@energy-citoyennes.org
SUMMARY:1er apéro solaire 2023 à Domène
DESCRIPTION:Et si c’était LE bon moment pour nous mêler de la transition énergétique ? et de la production d’énergies renouvelables ?\n\nL’énergie citoyenne vous ne connaissez pas encore ? ou vous connaissez et vous êtes intéressé.es par nos projets ? \n\n Rejoignez-nous pour notre prochain apéro solaire au bar Le Coq Hardi à Domène ! Sur inscription via <<ce lien>>.\n\nToujours le même principe : chacun paie ses consommations et on en profite pour découvrir un nouveau lieu de la métro à chaque rdv.\n\nUne soirée pour tout vous dire sur qui nous sommes et ce que nous faisons en présence de nos bénévoles – et également pour répondre à toutes vos questions.\n\n\nNous existons depuis 6 ans et vous ne nous connaissez pas encore ? Ou vous n’êtes jamains venu.e.s nous rencontrer ?\n\nVous êtes curieu.x.se de savoir ce que nous allons construire dans les mois à venir ? D’avoir des détails sur notre implication dans la Maîtrise de l’énergie ?\nVous vous dites qu’il est peut-être temps de mieux comprendre comment ça marche ? De voir comment vous pouvez passer à l’action vous aussi ? \n\nCet apéro est pour VOUS ! 
URL:https://energy-citoyennes.org/event/save-the-date-1er-apero-solaire-2023-lieu-a-definir/
LOCATION:Le Coq Hardi\, 4 place Stalingrad\, Domène\, 38420\, France
CATEGORIES:On organise
ATTACH;FMTTYPE=image/jpeg:https://energy-citoyennes.org/wp-content/uploads/2021/11/Publication-FB-apéro-sol-1200-630.jpg
END:VEVENT
END:VCALENDAR