BEGIN:VCALENDAR
VERSION:2.0
PRODID:-//Énerg’Y Citoyennes - ECPv6.15.20//NONSGML v1.0//EN
CALSCALE:GREGORIAN
METHOD:PUBLISH
X-WR-CALNAME:Énerg’Y Citoyennes
X-ORIGINAL-URL:https://energy-citoyennes.org
X-WR-CALDESC:Évènements pour Énerg’Y Citoyennes
REFRESH-INTERVAL;VALUE=DURATION:PT1H
X-Robots-Tag:noindex
X-PUBLISHED-TTL:PT1H
BEGIN:VTIMEZONE
TZID:Europe/Paris
BEGIN:DAYLIGHT
TZOFFSETFROM:+0100
TZOFFSETTO:+0200
TZNAME:CEST
DTSTART:20210328T010000
END:DAYLIGHT
BEGIN:STANDARD
TZOFFSETFROM:+0200
TZOFFSETTO:+0100
TZNAME:CET
DTSTART:20211031T010000
END:STANDARD
BEGIN:DAYLIGHT
TZOFFSETFROM:+0100
TZOFFSETTO:+0200
TZNAME:CEST
DTSTART:20220327T010000
END:DAYLIGHT
BEGIN:STANDARD
TZOFFSETFROM:+0200
TZOFFSETTO:+0100
TZNAME:CET
DTSTART:20221030T010000
END:STANDARD
BEGIN:DAYLIGHT
TZOFFSETFROM:+0100
TZOFFSETTO:+0200
TZNAME:CEST
DTSTART:20230326T010000
END:DAYLIGHT
BEGIN:STANDARD
TZOFFSETFROM:+0200
TZOFFSETTO:+0100
TZNAME:CET
DTSTART:20231029T010000
END:STANDARD
END:VTIMEZONE
BEGIN:VEVENT
DTSTART;TZID=Europe/Paris:20220629T183000
DTEND;TZID=Europe/Paris:20220629T213000
DTSTAMP:20260421T174512
CREATED:20220202T063626Z
LAST-MODIFIED:20220519T085305Z
UID:9667-1656527400-1656538200@energy-citoyennes.org
SUMMARY:Assemblée générale 2022 // Maison de la Musique de Meylan
DESCRIPTION:L’assemblée générale annuelle\, permet au conseil de gestion et aux bénévoles de présenter aux associés l’activité\, les comptes\, et les perspectives de développement. \nCette année\, nous votons en ligne\, et nous vous attendons à Meylan pour partager nos actualités de 2021 et nos perspectives ! \nAfin que nous puissions organiser au mieux cette soirée\, merci de vous inscrire en suivant ce ➡️ lien. ⬅️\n\nAu programme de cette soirée : \n\n18h15 : Accueil\n18h30 : Présentation du rapport de gestion au 31 décembre 2021 et questions/réponses\n19h30 : Atelier « Défi 600 producteurs\, que puis-je faire pour le booster ? »\n20h15 : Sur le toit de la Maison de la Musique … ou presque !\n20h30 : « Cocktail Citoyen » pour un temps d’échanges convivial et en musique 🙂\n21h30 : Fin de la soirée\n\nAccès transports en commun : Arrêt bus Meylan Mairie (puis 3min de marche) ou Lycée du Grésivaudan (puis 7 min de marche)
URL:https://energy-citoyennes.org/event/assemblee-generale-2022/
LOCATION:Maison de la Musique\, 4 Av. du Granier\, meylan\, 38240\, France
CATEGORIES:On organise
ATTACH;FMTTYPE=image/jpeg:https://energy-citoyennes.org/wp-content/uploads/2022/05/Assemblee-Generale.jpg
END:VEVENT
END:VCALENDAR