BEGIN:VCALENDAR
VERSION:2.0
PRODID:-//Énerg’Y Citoyennes - ECPv6.15.20//NONSGML v1.0//EN
CALSCALE:GREGORIAN
METHOD:PUBLISH
X-WR-CALNAME:Énerg’Y Citoyennes
X-ORIGINAL-URL:https://energy-citoyennes.org
X-WR-CALDESC:Évènements pour Énerg’Y Citoyennes
REFRESH-INTERVAL;VALUE=DURATION:PT1H
X-Robots-Tag:noindex
X-PUBLISHED-TTL:PT1H
BEGIN:VTIMEZONE
TZID:Europe/Paris
BEGIN:DAYLIGHT
TZOFFSETFROM:+0100
TZOFFSETTO:+0200
TZNAME:CEST
DTSTART:20210328T010000
END:DAYLIGHT
BEGIN:STANDARD
TZOFFSETFROM:+0200
TZOFFSETTO:+0100
TZNAME:CET
DTSTART:20211031T010000
END:STANDARD
BEGIN:DAYLIGHT
TZOFFSETFROM:+0100
TZOFFSETTO:+0200
TZNAME:CEST
DTSTART:20220327T010000
END:DAYLIGHT
BEGIN:STANDARD
TZOFFSETFROM:+0200
TZOFFSETTO:+0100
TZNAME:CET
DTSTART:20221030T010000
END:STANDARD
BEGIN:DAYLIGHT
TZOFFSETFROM:+0100
TZOFFSETTO:+0200
TZNAME:CEST
DTSTART:20230326T010000
END:DAYLIGHT
BEGIN:STANDARD
TZOFFSETFROM:+0200
TZOFFSETTO:+0100
TZNAME:CET
DTSTART:20231029T010000
END:STANDARD
END:VTIMEZONE
BEGIN:VEVENT
DTSTART;TZID=Europe/Paris:20220317T183000
DTEND;TZID=Europe/Paris:20220317T200000
DTSTAMP:20260421T224347
CREATED:20220117T095812Z
LAST-MODIFIED:20220124T160343Z
UID:9536-1647541800-1647547200@energy-citoyennes.org
SUMMARY:Apéro pour UN DÉFI DE TAILLE ! à Grenoble
DESCRIPTION:// Ouvert à tous – inscription sur ce formulaire (places limitées) //\n\n\nDevenons tous producteurs.trices d’énergies renouvelables citoyennes sur la métropole grenobloise ! C’est possible !\nPour le mois de l’énergie de cette année Grenoble Capitale Verte Européenne\, venez fêter et soutenir l’énergie citoyenne avec nous ! \n\nSi vous ne connaissez pas encore ou si vous êtes intéressé.es par nos projets 2022\, rejoignez-nous pour notre apéro solaire de à Grenoble à La Turbine.Coop !\nUne soirée pour tout vous dire sur : \n\nqui nous sommes : 300 associés collectivités\, habitants et entreprises\,\n\nnos projets réalisés depuis 5 ans : 20 centrales solaires et 4 réseaux de chaleur bois Forestener\,\nnos projets prévus en 2022 !!!\nnotre implication dans la maîtrise de l’énergie et la lutte contre la précarité énergétique\,\nnotre défi 600 producteurs …\n\nEn présence de nos bénévoles et de nos partenaires pour répondre à toutes vos questions. \n\nNous existons depuis 5 ans et vous ne nous connaissez pas encore ? Ou vous n’êtes jamais venu.e.s nous rencontrer ?\n\nCet apéro est pour VOUS ! 
URL:https://energy-citoyennes.org/event/apero-solaire-18-a-grenoble/
LOCATION:La Turbine.Coop\, 5 esplanade Andry Farcy\, Grenovle
CATEGORIES:On organise
ATTACH;FMTTYPE=image/jpeg:https://energy-citoyennes.org/wp-content/uploads/2021/06/Tous-producteurs.jpg
END:VEVENT
BEGIN:VEVENT
DTSTART;TZID=Europe/Paris:20220319T133000
DTEND;TZID=Europe/Paris:20220319T150000
DTSTAMP:20260421T224347
CREATED:20220127T131519Z
LAST-MODIFIED:20220201T102731Z
UID:9630-1647696600-1647702000@energy-citoyennes.org
SUMMARY:Inauguration de la résidence des Clares à Jarrie
DESCRIPTION:// Ouvert à tous ! // \nAlpes Isère Habitat\, Energ’Y Citoyennes et la Ville de Jarrie vous invitent à l’inauguration des Clares. \nVenez découvrir\, avec les élus et habitants\, cette nouvelle résidence avec sa centrale photovoltaïque financée par Energ’Y Citoyennes\, ses points de recharge pour la mobilité électrique et ses aménagements pour la biodiversité (hôtel à insectes\, nichoirs à mésanges et chauve-souris\, toiture végétalisée et autres spécificités). Sans parler de quelque chose qui ne se voit pas : la réduction de la pollution lumineuse\, grâce à la suppression des candélabres et la maitrise de l’éclairage extérieur ! \nLa découverte se terminera par un goûter festif et une animation surprise autour du soleil !
URL:https://energy-citoyennes.org/event/inauguration-de-la-residence-des-clares-a-jarrie/
LOCATION:Résidence des Clares\, 76 montée des Clares\, Jarrie\, France
CATEGORIES:On organise
ATTACH;FMTTYPE=image/jpeg:https://energy-citoyennes.org/wp-content/uploads/2022/01/Illustration-fete-inauguration-AIH-EYC-Jarrie-V3.jpg
END:VEVENT
END:VCALENDAR