BEGIN:VCALENDAR
VERSION:2.0
PRODID:-//Énerg’Y Citoyennes - ECPv6.15.20//NONSGML v1.0//EN
CALSCALE:GREGORIAN
METHOD:PUBLISH
X-WR-CALNAME:Énerg’Y Citoyennes
X-ORIGINAL-URL:https://energy-citoyennes.org
X-WR-CALDESC:Évènements pour Énerg’Y Citoyennes
REFRESH-INTERVAL;VALUE=DURATION:PT1H
X-Robots-Tag:noindex
X-PUBLISHED-TTL:PT1H
BEGIN:VTIMEZONE
TZID:Europe/Paris
BEGIN:DAYLIGHT
TZOFFSETFROM:+0100
TZOFFSETTO:+0200
TZNAME:CEST
DTSTART:20200329T010000
END:DAYLIGHT
BEGIN:STANDARD
TZOFFSETFROM:+0200
TZOFFSETTO:+0100
TZNAME:CET
DTSTART:20201025T010000
END:STANDARD
BEGIN:DAYLIGHT
TZOFFSETFROM:+0100
TZOFFSETTO:+0200
TZNAME:CEST
DTSTART:20210328T010000
END:DAYLIGHT
BEGIN:STANDARD
TZOFFSETFROM:+0200
TZOFFSETTO:+0100
TZNAME:CET
DTSTART:20211031T010000
END:STANDARD
BEGIN:DAYLIGHT
TZOFFSETFROM:+0100
TZOFFSETTO:+0200
TZNAME:CEST
DTSTART:20220327T010000
END:DAYLIGHT
BEGIN:STANDARD
TZOFFSETFROM:+0200
TZOFFSETTO:+0100
TZNAME:CET
DTSTART:20221030T010000
END:STANDARD
END:VTIMEZONE
BEGIN:VEVENT
DTSTART;TZID=Europe/Paris:20211116T183000
DTEND;TZID=Europe/Paris:20211116T200000
DTSTAMP:20260422T054953
CREATED:20211028T130507Z
LAST-MODIFIED:20211029T101946Z
UID:9189-1637087400-1637092800@energy-citoyennes.org
SUMMARY:Apéro Solaire en visio #16
DESCRIPTION:// Ouvert à tous – sur inscription* //\n\nVous êtes intéressé.es par notre aventure ? \n\n Rejoignez-nous pour notre apéro « de près de loin » (en visio) !\n\nUne soirée pour tout vous dire sur nos projets 2021 dans la métropole\, en présence de bénévoles pour répondre à toutes vos questions.\n\nVous êtes curieux d’en savoir plus sur cette aventure citoyennes ?\nVous vous dites qu’il est peut-être temps de mieux comprendre comment ça marche ?\nDe poser toutes vos questions à nos bénévoles avant de nous rejoindre ?\nDe voir comment vous pouvez passer à l’action vous aussi ? \n\nCet apéro est pour VOUS ! \n*Lien pour inscription ici
URL:https://energy-citoyennes.org/event/apero-solaire-en-visio-16/
LOCATION:Zoom sur inscription !
CATEGORIES:On organise
ATTACH;FMTTYPE=image/png:https://energy-citoyennes.org/wp-content/uploads/2021/02/apero.png
END:VEVENT
BEGIN:VEVENT
DTSTART;TZID=Europe/Paris:20211127T110000
DTEND;TZID=Europe/Paris:20211127T123000
DTSTAMP:20260422T054953
CREATED:20211028T131413Z
LAST-MODIFIED:20211120T150607Z
UID:9196-1638010800-1638016200@energy-citoyennes.org
SUMMARY:Inauguration centrale solaire Mermoz à Poisat
DESCRIPTION:Une école qui produit 3 fois l’électricité qu’elle consomme : ça s’arrose !  \nNous vous invitons à venir découvrir Energ’Y Citoyennes et notre centrale 36 kWc de l’école Jean Mermoz lors de son inauguration le 27 novembre ! \nUne occasion de mieux comprendre comment fonctionne notre projet\, de remercier nos partenaires dont la ville de Poisat qui nous loue la toiture et de tout savoir sur cette toiture qui produit de l’électricité renouvelable depuis Octobre 2021 \nEntrée libre pour tous !
URL:https://energy-citoyennes.org/event/inauguration-centrale-solaire-mermoz-a-poisat/
LOCATION:Ecole Mermoz Poisat\, 18 rue Claude Debussy\, POISAT\, 38320
CATEGORIES:On organise
ATTACH;FMTTYPE=image/jpeg:https://energy-citoyennes.org/wp-content/uploads/2021/08/Poisat1-scaled.jpg
END:VEVENT
END:VCALENDAR