BEGIN:VCALENDAR
VERSION:2.0
PRODID:-//Énerg’Y Citoyennes - ECPv6.15.20//NONSGML v1.0//EN
CALSCALE:GREGORIAN
METHOD:PUBLISH
X-ORIGINAL-URL:https://energy-citoyennes.org
X-WR-CALDESC:Évènements pour Énerg’Y Citoyennes
REFRESH-INTERVAL;VALUE=DURATION:PT1H
X-Robots-Tag:noindex
X-PUBLISHED-TTL:PT1H
BEGIN:VTIMEZONE
TZID:Europe/Paris
BEGIN:DAYLIGHT
TZOFFSETFROM:+0100
TZOFFSETTO:+0200
TZNAME:CEST
DTSTART:20200329T010000
END:DAYLIGHT
BEGIN:STANDARD
TZOFFSETFROM:+0200
TZOFFSETTO:+0100
TZNAME:CET
DTSTART:20201025T010000
END:STANDARD
BEGIN:DAYLIGHT
TZOFFSETFROM:+0100
TZOFFSETTO:+0200
TZNAME:CEST
DTSTART:20210328T010000
END:DAYLIGHT
BEGIN:STANDARD
TZOFFSETFROM:+0200
TZOFFSETTO:+0100
TZNAME:CET
DTSTART:20211031T010000
END:STANDARD
BEGIN:DAYLIGHT
TZOFFSETFROM:+0100
TZOFFSETTO:+0200
TZNAME:CEST
DTSTART:20220327T010000
END:DAYLIGHT
BEGIN:STANDARD
TZOFFSETFROM:+0200
TZOFFSETTO:+0100
TZNAME:CET
DTSTART:20221030T010000
END:STANDARD
END:VTIMEZONE
BEGIN:VEVENT
DTSTART;TZID=Europe/Paris:20210623T170000
DTEND;TZID=Europe/Paris:20210623T210000
DTSTAMP:20260424T105941
CREATED:20210113T141552Z
LAST-MODIFIED:20210527T131424Z
UID:7563-1624467600-1624482000@energy-citoyennes.org
SUMMARY:Assemblée Générale 2021 à Varces-Allières-et-Risset !
DESCRIPTION:L’assemblée générale annuelle\, permet au conseil de gestion et aux bénévoles de présenter aux associés l’activité\, les comptes\, et les perspectives de développement. \nCette année\, nous votons en ligne\, et nous vous attendons à Varces-Allières-et-Risset pour partager nos actualités de 2020 et nos perspectives ! \nProgramme de la soirée :\n\n17h : Visite de la chaufferie bois Forestener et de la centrale photovoltaïque de l’école Mallerin (RDV devant la chaufferie à côté de la salle de L’Oriel*)\n17h45 : Accueil\n18h : Présentation du rapport de gestion au 31 décembre 2020 et questions/réponses\n19h : « L’éthique chez EYC … » – amenez vos smartphones pour donner votre avis en ligne !\n19h15 : Atelier participatif « Energ’Y Citoyennes et la Maîtrise de l’Énergie »\n20h15 : « Cocktail Citoyen » pour un temps d’échanges convivial (chacun amenant boissons ou nourriture salée ou sucrée)\n21h : Fin de la soirée
URL:https://energy-citoyennes.org/event/assemblee-generale-2021-a-varces/
LOCATION:Salle L’Oriel\, Espace Charles de Gaulle\, Varces-Allières-et-Risset\, 38760
CATEGORIES:On organise
ATTACH;FMTTYPE=image/png:https://energy-citoyennes.org/wp-content/uploads/2021/01/ag2021.png
END:VEVENT
END:VCALENDAR