BEGIN:VCALENDAR
VERSION:2.0
PRODID:-//Énerg’Y Citoyennes - ECPv6.15.20//NONSGML v1.0//EN
CALSCALE:GREGORIAN
METHOD:PUBLISH
X-WR-CALNAME:Énerg’Y Citoyennes
X-ORIGINAL-URL:https://energy-citoyennes.org
X-WR-CALDESC:Évènements pour Énerg’Y Citoyennes
REFRESH-INTERVAL;VALUE=DURATION:PT1H
X-Robots-Tag:noindex
X-PUBLISHED-TTL:PT1H
BEGIN:VTIMEZONE
TZID:Europe/Paris
BEGIN:DAYLIGHT
TZOFFSETFROM:+0100
TZOFFSETTO:+0200
TZNAME:CEST
DTSTART:20230326T010000
END:DAYLIGHT
BEGIN:STANDARD
TZOFFSETFROM:+0200
TZOFFSETTO:+0100
TZNAME:CET
DTSTART:20231029T010000
END:STANDARD
BEGIN:DAYLIGHT
TZOFFSETFROM:+0100
TZOFFSETTO:+0200
TZNAME:CEST
DTSTART:20240331T010000
END:DAYLIGHT
BEGIN:STANDARD
TZOFFSETFROM:+0200
TZOFFSETTO:+0100
TZNAME:CET
DTSTART:20241027T010000
END:STANDARD
BEGIN:DAYLIGHT
TZOFFSETFROM:+0100
TZOFFSETTO:+0200
TZNAME:CEST
DTSTART:20250330T010000
END:DAYLIGHT
BEGIN:STANDARD
TZOFFSETFROM:+0200
TZOFFSETTO:+0100
TZNAME:CET
DTSTART:20251026T010000
END:STANDARD
END:VTIMEZONE
BEGIN:VEVENT
DTSTART;TZID=Europe/Paris:20240321T180000
DTEND;TZID=Europe/Paris:20240321T210000
DTSTAMP:20260420T115535
CREATED:20240126T084007Z
LAST-MODIFIED:20240317T182548Z
UID:13661-1711044000-1711054800@energy-citoyennes.org
SUMMARY:COMPLET // Fresque des nouveaux récits à Grenoble // sur inscription
DESCRIPTION:INSCRIPTION OBLIGATOIRE \nDécouvrez grâce à un jeu de cartes collaboratif quelle est l’influence des récits sur notre cerveau et nos comportements. Vous pourrez ainsi lever les verrous socio-cognitifs actuels qui nous maintiennent dans le statu quo\, et contribuer à la nécessaire transition écologique et solidaire. \nConstruisez ensuite un récit permettant de faire advenir un futur désirable et compatible avec les limites planétaires ! \nNombre de participants limité à 8/10 personnes : merci de vous inscrire sur <<ce lien>> ! \nCette soirée est organisée dans le cadre du Mois de L’Energie de la Métropole de Grenoble.
URL:https://energy-citoyennes.org/event/fresque-des-nouveaux-recits-a-grenoble-sur-inscription/
LOCATION:La Turbine.Coop\, 5 esplanade Andry Farcy\, Grenovle
CATEGORIES:On organise
ATTACH;FMTTYPE=image/png:https://energy-citoyennes.org/wp-content/uploads/2024/01/Parrain-fresque.png
END:VEVENT
END:VCALENDAR