BEGIN:VCALENDAR
VERSION:2.0
PRODID:-//Énerg’Y Citoyennes - ECPv6.15.20//NONSGML v1.0//EN
CALSCALE:GREGORIAN
METHOD:PUBLISH
X-WR-CALNAME:Énerg’Y Citoyennes
X-ORIGINAL-URL:https://energy-citoyennes.org
X-WR-CALDESC:Évènements pour Énerg’Y Citoyennes
REFRESH-INTERVAL;VALUE=DURATION:PT1H
X-Robots-Tag:noindex
X-PUBLISHED-TTL:PT1H
BEGIN:VTIMEZONE
TZID:Europe/Paris
BEGIN:DAYLIGHT
TZOFFSETFROM:+0100
TZOFFSETTO:+0200
TZNAME:CEST
DTSTART:20220327T010000
END:DAYLIGHT
BEGIN:STANDARD
TZOFFSETFROM:+0200
TZOFFSETTO:+0100
TZNAME:CET
DTSTART:20221030T010000
END:STANDARD
BEGIN:DAYLIGHT
TZOFFSETFROM:+0100
TZOFFSETTO:+0200
TZNAME:CEST
DTSTART:20230326T010000
END:DAYLIGHT
BEGIN:STANDARD
TZOFFSETFROM:+0200
TZOFFSETTO:+0100
TZNAME:CET
DTSTART:20231029T010000
END:STANDARD
BEGIN:DAYLIGHT
TZOFFSETFROM:+0100
TZOFFSETTO:+0200
TZNAME:CEST
DTSTART:20240331T010000
END:DAYLIGHT
BEGIN:STANDARD
TZOFFSETFROM:+0200
TZOFFSETTO:+0100
TZNAME:CET
DTSTART:20241027T010000
END:STANDARD
END:VTIMEZONE
BEGIN:VEVENT
DTSTART;TZID=Europe/Paris:20231130T183000
DTEND;TZID=Europe/Paris:20231130T203000
DTSTAMP:20260420T145518
CREATED:20231105T150709Z
LAST-MODIFIED:20231115T134814Z
UID:13103-1701369000-1701376200@energy-citoyennes.org
SUMMARY:SpeedMeeting des acteurs de la Finance Solidaire // à Grenoble
DESCRIPTION:Vous avez envie d’épargner différemment ? \nMarre d’investir\, sans le savoir ni le vouloir\, dans des entreprises polluantes et sans éthique ?\nAssez de la consommation mondialisée et de ses travers financiers ?\nDe ne pas savoir comment soutenir des entrepreneur-se-s d’avenir ? \n\n Dans le cadre de la #MoisdelESS\, venez à la rencontre des acteurs de la #FinanceSolidaire  de la métropole grenobloise\, vous avez le pouvoir de mettre votre argent au service d’un développement durable ! \nQue vous soyez citoyen-ne à la recherche de placements éthiques pour votre épargne\, consom’acteur-ice souhaitant favoriser les commerces et services de proximité ou porteur-se d’un projet social\, écologique ou culturel en recherche de financements et d’accompagnement : ce temps d’échange est fait pour vous ! \nSur le format innovant d’un #SpeedMeeting\, vous rencontrerez de manière privilégiée les structures qui vous intéressent et pourrez ainsi échanger en direct et en petits groupes avec elles. Pas de théories mais du concret pour donner du sens à votre argent et soutenir des entreprises éthiques et locales \nEn présence de :\n La Nef\n Les CIGALES\n Energ’Y Citoyennes (des flyers seront sur place – mais pas de bénévole dispo malheureusement !)\n Oikocredit\n Le Cairn\n Villages Vivants\n GAÏA\n Terre de Liens
URL:https://energy-citoyennes.org/event/speedmeeting-des-acteurs-de-la-finance-solidaire-a-grenoble/
LOCATION:Chimère Café\, 12 rue Voltaire\, Grenoble\, 38000\, France
CATEGORIES:On participe
ATTACH;FMTTYPE=image/jpeg:https://energy-citoyennes.org/wp-content/uploads/2023/11/SpeedMeeting.jpg
END:VEVENT
END:VCALENDAR