BEGIN:VCALENDAR
VERSION:2.0
PRODID:-//Énerg’Y Citoyennes - ECPv6.15.20//NONSGML v1.0//EN
CALSCALE:GREGORIAN
METHOD:PUBLISH
X-ORIGINAL-URL:https://energy-citoyennes.org
X-WR-CALDESC:Évènements pour Énerg’Y Citoyennes
REFRESH-INTERVAL;VALUE=DURATION:PT1H
X-Robots-Tag:noindex
X-PUBLISHED-TTL:PT1H
BEGIN:VTIMEZONE
TZID:Europe/Paris
BEGIN:DAYLIGHT
TZOFFSETFROM:+0100
TZOFFSETTO:+0200
TZNAME:CEST
DTSTART:20170326T010000
END:DAYLIGHT
BEGIN:STANDARD
TZOFFSETFROM:+0200
TZOFFSETTO:+0100
TZNAME:CET
DTSTART:20171029T010000
END:STANDARD
BEGIN:DAYLIGHT
TZOFFSETFROM:+0100
TZOFFSETTO:+0200
TZNAME:CEST
DTSTART:20180325T010000
END:DAYLIGHT
BEGIN:STANDARD
TZOFFSETFROM:+0200
TZOFFSETTO:+0100
TZNAME:CET
DTSTART:20181028T010000
END:STANDARD
BEGIN:DAYLIGHT
TZOFFSETFROM:+0100
TZOFFSETTO:+0200
TZNAME:CEST
DTSTART:20190331T010000
END:DAYLIGHT
BEGIN:STANDARD
TZOFFSETFROM:+0200
TZOFFSETTO:+0100
TZNAME:CET
DTSTART:20191027T010000
END:STANDARD
END:VTIMEZONE
BEGIN:VEVENT
DTSTART;TZID=Europe/Paris:20181119T180000
DTEND;TZID=Europe/Paris:20181119T193000
DTSTAMP:20260419T162926
CREATED:20180926T123252Z
LAST-MODIFIED:20190104T161109Z
UID:933-1542650400-1542655800@energy-citoyennes.org
SUMMARY:Produire et Consommer Local\, ca marche aussi pour l'énergie ! à Grenoble
DESCRIPTION:Dans le cadre du Mois de L’ESS\n\nLa Bonne Pioche\, épicerie de produits locaux\, présente Energ’Y Citoyennes ! Venez rencontrer ces habitants de notre métropole qui nous invitent à prendre ensemble notre place au soleil avec Solaire d’Ici\, projet photovoltaïque citoyen.\n\nQuel rapport entre La Bonne Pioche et Energ’Y Citoyennes ? A priori aucun ! Et pourtant ces deux structures ont le souci des circuits courts … On en parle …
URL:https://energy-citoyennes.org/event/produire-et-consommer-local-ca-marche-aussi-pour-lenergie-a-grenoble/
LOCATION:La Bonne Pioche\, 2 rue Condillac\, Grenoble\, 38000\, France
END:VEVENT
END:VCALENDAR